BEGIN:VCALENDAR
VERSION:2.0
PRODID:-//Seminario Bíblico Bautista Español - ECPv5.9.1//NONSGML v1.0//EN
CALSCALE:GREGORIAN
METHOD:PUBLISH
X-WR-CALNAME:Seminario Bíblico Bautista Español
X-ORIGINAL-URL:https://sbbe.org
X-WR-CALDESC:Eventos para Seminario Bíblico Bautista Español
BEGIN:VTIMEZONE
TZID:UTC
BEGIN:STANDARD
TZOFFSETFROM:+0000
TZOFFSETTO:+0000
TZNAME:UTC
DTSTART:20240101T000000
END:STANDARD
END:VTIMEZONE
BEGIN:VEVENT
DTSTART;TZID=UTC:20240126T190000
DTEND;TZID=UTC:20240127T170000
DTSTAMP:20260421T101159
CREATED:20230815T143340Z
LAST-MODIFIED:20240115T161130Z
UID:8738-1706295600-1706374800@sbbe.org
SUMMARY:MATRIMONIO\, DIVORCIO Y SEGUNDAS NUPCIAS
DESCRIPTION:¿Cuándo y dónde?\nFecha: 26 – 27 de enero de 2024\nHorario: Viernes de 19’00 a 21’00 aprox- Sábado de 9’00 a 17’00 aprox.\nLugar: Iglesia Evangélica Bautista de Toledo – Calle Alberche Nº1\nPuede ser seguido presencialmente u online\n\n¿Cuánto vale?\nCuota de inscripción:5€ – Sólo se debe pagar la primera vez que se inscribe una asignatura del curso 23-24. Si ya se ha pagado anteriormente no debe volver a pagarse.\nPrecio para alumnos: 17€ – Precio regular\, hay descuentos (consultar https://sbbe.org/costes/) + la cuota de inscripción\nPrecio para oyentes:5€  – Los oyentes no pagan la cuota de inscripción. Los oyentes no tienen acceso a las clases online\, sólo pueden seguir las clases presencialmente \nInscripción\nFormulario de inscripción: Pincha aquí\nFecha límite de inscripción: 24/01/24 a las 23:00 \nModo de pago:\nTransferencia bancaria – ES04 2085 4766 5903 3036 6799.\nUna vez hecho el pago\, el comprobante se puede adjuntar en el mismo formulario o se puede mandar a seminariobbe@gmail.com. El comprobante de pago es la confirmación de la inscripción\n\nPlan Docente de la asignatura: https://sbbe.org/educacion-tutorial/
URL:https://sbbe.org/event/matrimonio-divorcio-y-segundas-nupcias/
END:VEVENT
END:VCALENDAR